BEGIN:VCALENDAR
VERSION:2.0
PRODID:-//Sankofa Haus - ECPv6.15.20//NONSGML v1.0//EN
CALSCALE:GREGORIAN
METHOD:PUBLISH
X-ORIGINAL-URL:https://sankofahaus.com
X-WR-CALDESC:Events for Sankofa Haus
REFRESH-INTERVAL;VALUE=DURATION:PT1H
X-Robots-Tag:noindex
X-PUBLISHED-TTL:PT1H
BEGIN:VTIMEZONE
TZID:America/New_York
BEGIN:DAYLIGHT
TZOFFSETFROM:-0500
TZOFFSETTO:-0400
TZNAME:EDT
DTSTART:20250309T070000
END:DAYLIGHT
BEGIN:STANDARD
TZOFFSETFROM:-0400
TZOFFSETTO:-0500
TZNAME:EST
DTSTART:20251102T060000
END:STANDARD
BEGIN:DAYLIGHT
TZOFFSETFROM:-0500
TZOFFSETTO:-0400
TZNAME:EDT
DTSTART:20260308T070000
END:DAYLIGHT
BEGIN:STANDARD
TZOFFSETFROM:-0400
TZOFFSETTO:-0500
TZNAME:EST
DTSTART:20261101T060000
END:STANDARD
BEGIN:DAYLIGHT
TZOFFSETFROM:-0500
TZOFFSETTO:-0400
TZNAME:EDT
DTSTART:20270314T070000
END:DAYLIGHT
BEGIN:STANDARD
TZOFFSETFROM:-0400
TZOFFSETTO:-0500
TZNAME:EST
DTSTART:20271107T060000
END:STANDARD
END:VTIMEZONE
BEGIN:VEVENT
DTSTART;TZID=America/New_York:20260118T160000
DTEND;TZID=America/New_York:20260118T203000
DTSTAMP:20260423T131357
CREATED:20260109T163441Z
LAST-MODIFIED:20260109T163547Z
UID:9103-1768752000-1768768200@sankofahaus.com
SUMMARY:Bronx World Film Screening
DESCRIPTION:
URL:https://sankofahaus.com/event/bronx-world-film-screening/
LOCATION:Sankofa Haus\, 2422 3rd Ave.\, Bronx\, NY\, 10454\, United States
ATTACH;FMTTYPE=image/jpeg:https://sankofahaus.com/wp-content/uploads/2026/01/1767215217789-Poster-Bronx-World-Film-Cycle-Winter-2026.avif
END:VEVENT
BEGIN:VEVENT
DTSTART;TZID=America/New_York:20260124T130000
DTEND;TZID=America/New_York:20260124T170000
DTSTAMP:20260423T131357
CREATED:20260120T181628Z
LAST-MODIFIED:20260120T181628Z
UID:9113-1769259600-1769274000@sankofahaus.com
SUMMARY:Release and Relearn
DESCRIPTION:
URL:https://sankofahaus.com/event/release-and-relearn/
LOCATION:Sankofa Haus\, 2422 3rd Ave.\, Bronx\, NY\, 10454\, United States
ATTACH;FMTTYPE=image/png:https://sankofahaus.com/wp-content/uploads/2026/01/Sankofa-Haus-Release-Relearn.avif
END:VEVENT
END:VCALENDAR