BEGIN:VCALENDAR
VERSION:2.0
PRODID:-//Sankofa Haus - ECPv6.15.20//NONSGML v1.0//EN
CALSCALE:GREGORIAN
METHOD:PUBLISH
X-ORIGINAL-URL:https://sankofahaus.com
X-WR-CALDESC:Events for Sankofa Haus
REFRESH-INTERVAL;VALUE=DURATION:PT1H
X-Robots-Tag:noindex
X-PUBLISHED-TTL:PT1H
BEGIN:VTIMEZONE
TZID:America/New_York
BEGIN:DAYLIGHT
TZOFFSETFROM:-0500
TZOFFSETTO:-0400
TZNAME:EDT
DTSTART:20240310T070000
END:DAYLIGHT
BEGIN:STANDARD
TZOFFSETFROM:-0400
TZOFFSETTO:-0500
TZNAME:EST
DTSTART:20241103T060000
END:STANDARD
BEGIN:DAYLIGHT
TZOFFSETFROM:-0500
TZOFFSETTO:-0400
TZNAME:EDT
DTSTART:20250309T070000
END:DAYLIGHT
BEGIN:STANDARD
TZOFFSETFROM:-0400
TZOFFSETTO:-0500
TZNAME:EST
DTSTART:20251102T060000
END:STANDARD
BEGIN:DAYLIGHT
TZOFFSETFROM:-0500
TZOFFSETTO:-0400
TZNAME:EDT
DTSTART:20260308T070000
END:DAYLIGHT
BEGIN:STANDARD
TZOFFSETFROM:-0400
TZOFFSETTO:-0500
TZNAME:EST
DTSTART:20261101T060000
END:STANDARD
END:VTIMEZONE
BEGIN:VEVENT
DTSTART;TZID=America/New_York:20251206T093000
DTEND;TZID=America/New_York:20251206T123000
DTSTAMP:20260423T144341
CREATED:20251112T193716Z
LAST-MODIFIED:20251112T193945Z
UID:8509-1765013400-1765024200@sankofahaus.com
SUMMARY:CANDLE CRAFTING AND PILATES EXPERIENCE
DESCRIPTION:
URL:https://sankofahaus.com/event/candle-crafting-and-pilates-experience/
LOCATION:Sankofa Haus\, 2422 3rd Ave.\, Bronx\, NY\, 10454\, United States
ATTACH;FMTTYPE=image/jpeg:https://sankofahaus.com/wp-content/uploads/2025/11/7816179C-1573-41F8-8775-CBD43087BA21.avif
END:VEVENT
BEGIN:VEVENT
DTSTART;TZID=America/New_York:20251210T190000
DTEND;TZID=America/New_York:20251210T220000
DTSTAMP:20260423T144341
CREATED:20251128T170343Z
LAST-MODIFIED:20251128T170438Z
UID:8850-1765393200-1765404000@sankofahaus.com
SUMMARY:Album Release Concert: MANNAfesto: Vol. 1
DESCRIPTION:
URL:https://sankofahaus.com/event/album-release-concert-mannafesto-vol-1/
LOCATION:Sankofa Haus\, 2422 3rd Ave.\, Bronx\, NY\, 10454\, United States
CATEGORIES:In Haus Events
ATTACH;FMTTYPE=image/jpeg:https://sankofahaus.com/wp-content/uploads/2025/11/MANNIFESTO.avif
END:VEVENT
BEGIN:VEVENT
DTSTART;TZID=America/New_York:20251216T180000
DTEND;TZID=America/New_York:20251216T210000
DTSTAMP:20260423T144341
CREATED:20251118T144609Z
LAST-MODIFIED:20251118T145124Z
UID:8716-1765908000-1765918800@sankofahaus.com
SUMMARY:Beyond the Bronx Book Launch
DESCRIPTION:
URL:https://sankofahaus.com/event/beyond-the-bronx-book-launch/
LOCATION:Sankofa Haus\, 2422 3rd Ave.\, Bronx\, NY\, 10454\, United States
CATEGORIES:In Haus Events
ATTACH;FMTTYPE=image/jpeg:https://sankofahaus.com/wp-content/uploads/2025/11/Beyond-the-Bronx-Book-Launch-Sankofa-Haus.avif
END:VEVENT
BEGIN:VEVENT
DTSTART;TZID=America/New_York:20251217T190000
DTEND;TZID=America/New_York:20251217T220000
DTSTAMP:20260423T144341
CREATED:20251201T154316Z
LAST-MODIFIED:20251201T155053Z
UID:8853-1765998000-1766008800@sankofahaus.com
SUMMARY:Soulful Sounds in the Bronx
DESCRIPTION:
URL:https://sankofahaus.com/event/soulful-sounds-in-the-bronx-2/
LOCATION:Sankofa Haus\, 2422 3rd Ave.\, Bronx\, NY\, 10454\, United States
CATEGORIES:In Haus Events
ATTACH;FMTTYPE=image/jpeg:https://sankofahaus.com/wp-content/uploads/2025/12/Soul-Sounds-in-the-Bronx-Sankofa-Haus.avif
END:VEVENT
BEGIN:VEVENT
DTSTART;TZID=America/New_York:20251220T113000
DTEND;TZID=America/New_York:20251220T133000
DTSTAMP:20260423T144341
CREATED:20251219T200227Z
LAST-MODIFIED:20251219T200227Z
UID:9067-1766230200-1766237400@sankofahaus.com
SUMMARY:Yoga & Lattes
DESCRIPTION:
URL:https://sankofahaus.com/event/yoga-lattes/
LOCATION:Sankofa Haus\, 2422 3rd Ave.\, Bronx\, NY\, 10454\, United States
END:VEVENT
END:VCALENDAR