BEGIN:VCALENDAR
VERSION:2.0
PRODID:-//Sankofa Haus - ECPv6.15.20//NONSGML v1.0//EN
CALSCALE:GREGORIAN
METHOD:PUBLISH
X-WR-CALNAME:Sankofa Haus
X-ORIGINAL-URL:https://sankofahaus.com
X-WR-CALDESC:Events for Sankofa Haus
REFRESH-INTERVAL;VALUE=DURATION:PT1H
X-Robots-Tag:noindex
X-PUBLISHED-TTL:PT1H
BEGIN:VTIMEZONE
TZID:America/New_York
BEGIN:DAYLIGHT
TZOFFSETFROM:-0500
TZOFFSETTO:-0400
TZNAME:EDT
DTSTART:20220313T070000
END:DAYLIGHT
BEGIN:STANDARD
TZOFFSETFROM:-0400
TZOFFSETTO:-0500
TZNAME:EST
DTSTART:20221106T060000
END:STANDARD
BEGIN:DAYLIGHT
TZOFFSETFROM:-0500
TZOFFSETTO:-0400
TZNAME:EDT
DTSTART:20230312T070000
END:DAYLIGHT
BEGIN:STANDARD
TZOFFSETFROM:-0400
TZOFFSETTO:-0500
TZNAME:EST
DTSTART:20231105T060000
END:STANDARD
BEGIN:DAYLIGHT
TZOFFSETFROM:-0500
TZOFFSETTO:-0400
TZNAME:EDT
DTSTART:20240310T070000
END:DAYLIGHT
BEGIN:STANDARD
TZOFFSETFROM:-0400
TZOFFSETTO:-0500
TZNAME:EST
DTSTART:20241103T060000
END:STANDARD
BEGIN:DAYLIGHT
TZOFFSETFROM:-0500
TZOFFSETTO:-0400
TZNAME:EDT
DTSTART:20250309T070000
END:DAYLIGHT
BEGIN:STANDARD
TZOFFSETFROM:-0400
TZOFFSETTO:-0500
TZNAME:EST
DTSTART:20251102T060000
END:STANDARD
END:VTIMEZONE
BEGIN:VEVENT
DTSTART;TZID=America/New_York:20241031T150000
DTEND;TZID=America/New_York:20241031T180000
DTSTAMP:20260424T052306
CREATED:20240919T161511Z
LAST-MODIFIED:20240919T161511Z
UID:6176-1730386800-1730397600@sankofahaus.com
SUMMARY:Costume Carnival 2024
DESCRIPTION:
URL:https://sankofahaus.com/event/costume-carnival-2024/
LOCATION:Sankofa Haus\, 2422 3rd Ave.\, Bronx\, NY\, 10454\, United States
ATTACH;FMTTYPE=image/jpeg:https://sankofahaus.com/wp-content/uploads/2024/09/Sankofa-Costume-Party-2024-alternate-4.jpg
END:VEVENT
BEGIN:VEVENT
DTSTART;TZID=America/New_York:20241004T190000
DTEND;TZID=America/New_York:20241004T220000
DTSTAMP:20260424T052306
CREATED:20240919T162033Z
LAST-MODIFIED:20240919T162033Z
UID:6181-1728068400-1728079200@sankofahaus.com
SUMMARY:Dogs of Mott Haven
DESCRIPTION:
URL:https://sankofahaus.com/event/dogs-of-mott-haven/
LOCATION:Sankofa Haus\, 2422 3rd Ave.\, Bronx\, NY\, 10454\, United States
ATTACH;FMTTYPE=image/jpeg:https://sankofahaus.com/wp-content/uploads/2024/09/SEPTMOVIESCREENING.jpeg
END:VEVENT
BEGIN:VEVENT
DTSTART;TZID=America/New_York:20241001T180000
DTEND;TZID=America/New_York:20241001T210000
DTSTAMP:20260424T052306
CREATED:20240920T223249Z
LAST-MODIFIED:20240920T223354Z
UID:6185-1727805600-1727816400@sankofahaus.com
SUMMARY:Pathways to Prosperity!
DESCRIPTION:
URL:https://sankofahaus.com/event/pathways-to-prosperity/
LOCATION:Sankofa Haus\, 2422 3rd Ave.\, Bronx\, NY\, 10454\, United States
ATTACH;FMTTYPE=image/png:https://sankofahaus.com/wp-content/uploads/2024/09/IMG_2902.png
END:VEVENT
BEGIN:VEVENT
DTSTART;TZID=America/New_York:20240630T140000
DTEND;TZID=America/New_York:20240630T190000
DTSTAMP:20260424T052306
CREATED:20240530T020351Z
LAST-MODIFIED:20240530T020351Z
UID:5522-1719756000-1719774000@sankofahaus.com
SUMMARY:The Self Care Mixer
DESCRIPTION:
URL:https://sankofahaus.com/event/the-self-care-mixer/
LOCATION:Sankofa Haus\, 2422 3rd Ave.\, Bronx\, NY\, 10454\, United States
ATTACH;FMTTYPE=image/jpeg:https://sankofahaus.com/wp-content/uploads/2024/05/SELF-CARE-MIXER.jpg
END:VEVENT
BEGIN:VEVENT
DTSTART;TZID=America/New_York:20240620T180000
DTEND;TZID=America/New_York:20240620T220000
DTSTAMP:20260424T052306
CREATED:20240529T192908Z
LAST-MODIFIED:20240529T193146Z
UID:5516-1718906400-1718920800@sankofahaus.com
SUMMARY:Co-Exist Ceremonies - Summer Solstice
DESCRIPTION:
URL:https://sankofahaus.com/event/co-exist-ceremonies-summer-solstice/
LOCATION:NY
ATTACH;FMTTYPE=image/jpeg:https://sankofahaus.com/wp-content/uploads/2024/05/image-1.jpeg
END:VEVENT
BEGIN:VEVENT
DTSTART;TZID=America/New_York:20240608T120000
DTEND;TZID=America/New_York:20240608T140000
DTSTAMP:20260424T052306
CREATED:20240529T192450Z
LAST-MODIFIED:20240529T192629Z
UID:5513-1717848000-1717855200@sankofahaus.com
SUMMARY:The Couples Yoga Date Experience
DESCRIPTION:
URL:https://sankofahaus.com/event/the-couples-yoga-date-experience/
LOCATION:Sankofa Haus\, 2422 3rd Ave.\, Bronx\, NY\, 10454\, United States
ATTACH;FMTTYPE=image/jpeg:https://sankofahaus.com/wp-content/uploads/2024/05/image.jpeg
END:VEVENT
BEGIN:VEVENT
DTSTART;TZID=America/New_York:20240604T180000
DTEND;TZID=America/New_York:20240604T210000
DTSTAMP:20260424T052306
CREATED:20240529T214103Z
LAST-MODIFIED:20240529T214103Z
UID:5520-1717524000-1717534800@sankofahaus.com
SUMMARY:Bronx Tech Hub
DESCRIPTION:
URL:https://sankofahaus.com/event/bronx-tech-hub/
LOCATION:Sankofa Haus\, 2422 3rd Ave.\, Bronx\, NY\, 10454\, United States
END:VEVENT
BEGIN:VEVENT
DTSTART;TZID=America/New_York:20240525T200000
DTEND;TZID=America/New_York:20240526T010000
DTSTAMP:20260424T052306
CREATED:20240510T002209Z
LAST-MODIFIED:20240510T002221Z
UID:5274-1716667200-1716685200@sankofahaus.com
SUMMARY:House is a Feeling featuring Tony Touch!
DESCRIPTION:
URL:https://sankofahaus.com/event/house-is-a-feeling-featuring-tony-touch/
LOCATION:Sankofa Haus\, 2422 3rd Ave.\, Bronx\, NY\, 10454\, United States
ATTACH;FMTTYPE=image/jpeg:https://sankofahaus.com/wp-content/uploads/2024/05/TONY-TOUCH-SANKOFA-HAUS.jpg
END:VEVENT
BEGIN:VEVENT
DTSTART;TZID=America/New_York:20240516T180000
DTEND;TZID=America/New_York:20240516T210000
DTSTAMP:20260424T052306
CREATED:20240501T174210Z
LAST-MODIFIED:20240501T174210Z
UID:5256-1715882400-1715893200@sankofahaus.com
SUMMARY:The Sankofa Haus Expo
DESCRIPTION:
URL:https://sankofahaus.com/event/the-sankofa-haus-expo/
LOCATION:Sankofa Haus\, 2422 3rd Ave.\, Bronx\, NY\, 10454\, United States
ATTACH;FMTTYPE=image/jpeg:https://sankofahaus.com/wp-content/uploads/2024/05/SANKOFA-HAUS.jpg
END:VEVENT
BEGIN:VEVENT
DTSTART;TZID=America/New_York:20240319T190000
DTEND;TZID=America/New_York:20240319T230000
DTSTAMP:20260424T052306
CREATED:20240305T140053Z
LAST-MODIFIED:20240305T141257Z
UID:5057-1710874800-1710889200@sankofahaus.com
SUMMARY:Sounds of Spring
DESCRIPTION:
URL:https://sankofahaus.com/event/sounds-of-spring/
LOCATION:Sankofa Haus\, 2422 3rd Ave.\, Bronx\, NY\, 10454\, United States
ATTACH;FMTTYPE=image/jpeg:https://sankofahaus.com/wp-content/uploads/2024/03/5F43D1DF-08D4-49E5-A54A-425C6F3DD8AC.jpeg
END:VEVENT
BEGIN:VEVENT
DTSTART;TZID=America/New_York:20240306T180000
DTEND;TZID=America/New_York:20240306T210000
DTSTAMP:20260424T052306
CREATED:20240304T193223Z
LAST-MODIFIED:20240304T193223Z
UID:5050-1709748000-1709758800@sankofahaus.com
SUMMARY:Ladies First - Networking & Music
DESCRIPTION:
URL:https://sankofahaus.com/event/ladies-first-networking-music/
LOCATION:NY
END:VEVENT
BEGIN:VEVENT
DTSTART;TZID=America/New_York:20240228T190000
DTEND;TZID=America/New_York:20240228T220000
DTSTAMP:20260424T052306
CREATED:20240215T182354Z
LAST-MODIFIED:20240215T182354Z
UID:4980-1709146800-1709157600@sankofahaus.com
SUMMARY:Mic Check Wednesdays
DESCRIPTION:
URL:https://sankofahaus.com/event/mic-check-wednesdays-3/
LOCATION:NY
END:VEVENT
BEGIN:VEVENT
DTSTART;TZID=America/New_York:20231231T210000
DTEND;TZID=America/New_York:20240101T030000
DTSTAMP:20260424T052306
CREATED:20231127T191725Z
LAST-MODIFIED:20231127T191725Z
UID:4715-1704056400-1704078000@sankofahaus.com
SUMMARY:Sankofa Haus NYE Celebration
DESCRIPTION:
URL:https://sankofahaus.com/event/sankofa-haus-nye-celebration/
LOCATION:Sankofa Haus\, 2422 3rd Ave.\, Bronx\, NY\, 10454\, United States
END:VEVENT
BEGIN:VEVENT
DTSTART;TZID=America/New_York:20231210T120000
DTEND;TZID=America/New_York:20231210T170000
DTSTAMP:20260424T052306
CREATED:20231127T191600Z
LAST-MODIFIED:20231127T191854Z
UID:4713-1702209600-1702227600@sankofahaus.com
SUMMARY:Merry Moments Captured
DESCRIPTION:
URL:https://sankofahaus.com/event/merry-moments-captured/
LOCATION:Sankofa Haus\, 2422 3rd Ave.\, Bronx\, NY\, 10454\, United States
END:VEVENT
BEGIN:VEVENT
DTSTART;TZID=America/New_York:20231208T190000
DTEND;TZID=America/New_York:20231208T233000
DTSTAMP:20260424T052306
CREATED:20231127T192134Z
LAST-MODIFIED:20231127T192134Z
UID:4717-1702062000-1702078200@sankofahaus.com
SUMMARY:South Bronx Santacon
DESCRIPTION:
URL:https://sankofahaus.com/event/south-bronx-santacon/
LOCATION:Sankofa Haus\, 2422 3rd Ave.\, Bronx\, NY\, 10454\, United States
END:VEVENT
BEGIN:VEVENT
DTSTART;TZID=America/New_York:20231129T190000
DTEND;TZID=America/New_York:20231129T223000
DTSTAMP:20260424T052306
CREATED:20231030T161155Z
LAST-MODIFIED:20231030T161455Z
UID:4481-1701284400-1701297000@sankofahaus.com
SUMMARY:Mic Check Wednesdays
DESCRIPTION:
URL:https://sankofahaus.com/event/mic-check-wednesdays-2/
LOCATION:Sankofa Haus\, 2422 3rd Ave.\, Bronx\, NY\, 10454\, United States
END:VEVENT
BEGIN:VEVENT
DTSTART;TZID=America/New_York:20231125T110000
DTEND;TZID=America/New_York:20231125T200000
DTSTAMP:20260424T052306
CREATED:20231107T193955Z
LAST-MODIFIED:20231107T194233Z
UID:4501-1700910000-1700942400@sankofahaus.com
SUMMARY:The Bronx Winter Market
DESCRIPTION:74967823-9fcb-4f11-9632-903ccc4538c5 2
URL:https://sankofahaus.com/event/the-bronx-winter-market/
LOCATION:Sankofa Haus\, 2422 3rd Ave.\, Bronx\, NY\, 10454\, United States
END:VEVENT
BEGIN:VEVENT
DTSTART;TZID=America/New_York:20231118T200000
DTEND;TZID=America/New_York:20231119T200000
DTSTAMP:20260424T052306
CREATED:20231102T201155Z
LAST-MODIFIED:20231102T201155Z
UID:4496-1700337600-1700424000@sankofahaus.com
SUMMARY:Spynfo's ( Coming To Sankofa) Bday Celebration!
DESCRIPTION:
URL:https://sankofahaus.com/event/spynfos-coming-to-sankofa-bday-celebration/
LOCATION:Sankofa Haus\, 2422 3rd Ave.\, Bronx\, NY\, 10454\, United States
END:VEVENT
BEGIN:VEVENT
DTSTART;TZID=America/New_York:20231116T190000
DTEND;TZID=America/New_York:20231116T220000
DTSTAMP:20260424T052306
CREATED:20231004T180141Z
LAST-MODIFIED:20231004T180141Z
UID:4470-1700161200-1700172000@sankofahaus.com
SUMMARY:Th3 Adopt3d On3 - A BronxWay Play!
DESCRIPTION:
URL:https://sankofahaus.com/event/th3-adopt3d-on3-a-bronxway-play/
LOCATION:Sankofa Haus\, 2422 3rd Ave.\, Bronx\, NY\, 10454\, United States
CATEGORIES:In Haus Events
END:VEVENT
BEGIN:VEVENT
DTSTART;TZID=America/New_York:20231104T090000
DTEND;TZID=America/New_York:20231104T130000
DTSTAMP:20260424T052306
CREATED:20231102T210042Z
LAST-MODIFIED:20231102T210042Z
UID:4498-1699088400-1699102800@sankofahaus.com
SUMMARY:Lululemon Shake Out!
DESCRIPTION:
URL:https://sankofahaus.com/event/lululemon-shake-out/
LOCATION:Sankofa Haus\, 2422 3rd Ave.\, Bronx\, NY\, 10454\, United States
END:VEVENT
BEGIN:VEVENT
DTSTART;TZID=America/New_York:20231031T160000
DTEND;TZID=America/New_York:20231031T180000
DTSTAMP:20260424T052306
CREATED:20231014T154024Z
LAST-MODIFIED:20231014T154024Z
UID:4473-1698768000-1698775200@sankofahaus.com
SUMMARY:Sankofa Haus Costume Carnival!
DESCRIPTION:
URL:https://sankofahaus.com/event/sankofa-haus-costume-carnival/
LOCATION:Sankofa Haus\, 2422 3rd Ave.\, Bronx\, NY\, 10454\, United States
END:VEVENT
BEGIN:VEVENT
DTSTART;TZID=America/New_York:20231027T200000
DTEND;TZID=America/New_York:20231028T010000
DTSTAMP:20260424T052306
CREATED:20231003T155942Z
LAST-MODIFIED:20231003T155942Z
UID:4458-1698436800-1698454800@sankofahaus.com
SUMMARY:Sumthin Spooky 2nd Annual Halloween Party
DESCRIPTION:
URL:https://sankofahaus.com/event/sumthin-spooky-2nd-annual-halloween-party/
LOCATION:Sankofa Haus\, 2422 3rd Ave.\, Bronx\, NY\, 10454\, United States
END:VEVENT
BEGIN:VEVENT
DTSTART;TZID=America/New_York:20231025T190000
DTEND;TZID=America/New_York:20231025T220000
DTSTAMP:20260424T052306
CREATED:20231017T151926Z
LAST-MODIFIED:20231017T152041Z
UID:4475-1698260400-1698271200@sankofahaus.com
SUMMARY:Third Ave Jazz featuring Adriele Vincent Brown!
DESCRIPTION:
URL:https://sankofahaus.com/event/third-ave-jazz-featuring-adrielle-vincent/
LOCATION:NY
END:VEVENT
BEGIN:VEVENT
DTSTART;TZID=America/New_York:20231010T190000
DTEND;TZID=America/New_York:20231010T230000
DTSTAMP:20260424T052306
CREATED:20231003T155743Z
LAST-MODIFIED:20231003T155743Z
UID:4456-1696964400-1696978800@sankofahaus.com
SUMMARY:Co Exist
DESCRIPTION:
URL:https://sankofahaus.com/event/co-exist/
LOCATION:Sankofa Haus\, 2422 3rd Ave.\, Bronx\, NY\, 10454\, United States
END:VEVENT
BEGIN:VEVENT
DTSTART;TZID=America/New_York:20230830T190000
DTEND;TZID=America/New_York:20230830T220000
DTSTAMP:20260424T052306
CREATED:20230725T174442Z
LAST-MODIFIED:20230725T174442Z
UID:4426-1693422000-1693432800@sankofahaus.com
SUMMARY:Mic Check Wednesdays
DESCRIPTION:
URL:https://sankofahaus.com/event/mic-check-wednesdays/
LOCATION:Sankofa Haus\, 2422 3rd Ave.\, Bronx\, NY\, 10454\, United States
END:VEVENT
BEGIN:VEVENT
DTSTART;TZID=America/New_York:20230823T190000
DTEND;TZID=America/New_York:20230823T213000
DTSTAMP:20260424T052306
CREATED:20230819T003158Z
LAST-MODIFIED:20230819T003158Z
UID:4453-1692817200-1692826200@sankofahaus.com
SUMMARY:Third Ave Jazz Presents Acute Inflections
DESCRIPTION:
URL:https://sankofahaus.com/event/third-ave-jazz-presents-acute-inflections/
LOCATION:NY
END:VEVENT
END:VCALENDAR