BEGIN:VCALENDAR
VERSION:2.0
PRODID:-//Sankofa Haus - ECPv6.15.20//NONSGML v1.0//EN
CALSCALE:GREGORIAN
METHOD:PUBLISH
X-WR-CALNAME:Sankofa Haus
X-ORIGINAL-URL:https://sankofahaus.com
X-WR-CALDESC:Events for Sankofa Haus
REFRESH-INTERVAL;VALUE=DURATION:PT1H
X-Robots-Tag:noindex
X-PUBLISHED-TTL:PT1H
BEGIN:VTIMEZONE
TZID:America/New_York
BEGIN:DAYLIGHT
TZOFFSETFROM:-0500
TZOFFSETTO:-0400
TZNAME:EDT
DTSTART:20230312T070000
END:DAYLIGHT
BEGIN:STANDARD
TZOFFSETFROM:-0400
TZOFFSETTO:-0500
TZNAME:EST
DTSTART:20231105T060000
END:STANDARD
BEGIN:DAYLIGHT
TZOFFSETFROM:-0500
TZOFFSETTO:-0400
TZNAME:EDT
DTSTART:20240310T070000
END:DAYLIGHT
BEGIN:STANDARD
TZOFFSETFROM:-0400
TZOFFSETTO:-0500
TZNAME:EST
DTSTART:20241103T060000
END:STANDARD
BEGIN:DAYLIGHT
TZOFFSETFROM:-0500
TZOFFSETTO:-0400
TZNAME:EDT
DTSTART:20250309T070000
END:DAYLIGHT
BEGIN:STANDARD
TZOFFSETFROM:-0400
TZOFFSETTO:-0500
TZNAME:EST
DTSTART:20251102T060000
END:STANDARD
BEGIN:DAYLIGHT
TZOFFSETFROM:-0500
TZOFFSETTO:-0400
TZNAME:EDT
DTSTART:20260308T070000
END:DAYLIGHT
BEGIN:STANDARD
TZOFFSETFROM:-0400
TZOFFSETTO:-0500
TZNAME:EST
DTSTART:20261101T060000
END:STANDARD
END:VTIMEZONE
BEGIN:VEVENT
DTSTART;TZID=America/New_York:20250423T180000
DTEND;TZID=America/New_York:20250423T210000
DTSTAMP:20260423T174513
CREATED:20250422T104124Z
LAST-MODIFIED:20250422T104606Z
UID:6877-1745431200-1745442000@sankofahaus.com
SUMMARY:A.I. Workshop
DESCRIPTION:
URL:https://sankofahaus.com/event/a-i-workshop/
LOCATION:Sankofa Haus\, 2422 3rd Ave.\, Bronx\, NY\, 10454\, United States
ATTACH;FMTTYPE=image/jpeg:https://sankofahaus.com/wp-content/uploads/2025/04/IMG_9309.webp
END:VEVENT
BEGIN:VEVENT
DTSTART;TZID=America/New_York:20250327T180000
DTEND;TZID=America/New_York:20250327T210000
DTSTAMP:20260423T174513
CREATED:20250318T173641Z
LAST-MODIFIED:20250318T173641Z
UID:6855-1743098400-1743109200@sankofahaus.com
SUMMARY:Women in Tech - Breaking Barriers\, Building futures
DESCRIPTION:
URL:https://sankofahaus.com/event/women-in-tech-breaking-barriers-building-futures/
LOCATION:Sankofa Haus\, 2422 3rd Ave.\, Bronx\, NY\, 10454\, United States
ATTACH;FMTTYPE=image/jpeg:https://sankofahaus.com/wp-content/uploads/2025/03/Sankofa-Women-in-tech-March-25-2160x1080-v3-copy.webp
END:VEVENT
BEGIN:VEVENT
DTSTART;TZID=America/New_York:20250326T190000
DTEND;TZID=America/New_York:20250326T220000
DTSTAMP:20260423T174513
CREATED:20250126T235238Z
LAST-MODIFIED:20250306T100243Z
UID:6722-1743015600-1743026400@sankofahaus.com
SUMMARY:SOULFUL SOUNDS IN THE BRONX
DESCRIPTION:
URL:https://sankofahaus.com/event/soulful-sounds-in-the-bronx/
LOCATION:Sankofa Haus\, 2422 3rd Ave.\, Bronx\, NY\, 10454\, United States
ATTACH;FMTTYPE=image/jpeg:https://sankofahaus.com/wp-content/uploads/2025/01/SS-Website.webp
END:VEVENT
BEGIN:VEVENT
DTSTART;TZID=America/New_York:20250322T190000
DTEND;TZID=America/New_York:20250322T230000
DTSTAMP:20260423T174513
CREATED:20250124T203422Z
LAST-MODIFIED:20250124T203652Z
UID:6718-1742670000-1742684400@sankofahaus.com
SUMMARY:Th3 Adot3d On3
DESCRIPTION:
URL:https://sankofahaus.com/event/th3-adot3d-on3/
LOCATION:Sankofa Haus\, 2422 3rd Ave.\, Bronx\, NY\, 10454\, United States
ATTACH;FMTTYPE=image/jpeg:https://sankofahaus.com/wp-content/uploads/2025/01/IMG_6896.webp
END:VEVENT
BEGIN:VEVENT
DTSTART;TZID=America/New_York:20250320T180000
DTEND;TZID=America/New_York:20250320T200000
DTSTAMP:20260423T174513
CREATED:20250318T174126Z
LAST-MODIFIED:20250318T174126Z
UID:6859-1742493600-1742500800@sankofahaus.com
SUMMARY:Ladies First Women's History Celebration
DESCRIPTION:
URL:https://sankofahaus.com/event/ladies-first-womens-history-celebration/
LOCATION:Sankofa Haus\, 2422 3rd Ave.\, Bronx\, NY\, 10454\, United States
END:VEVENT
BEGIN:VEVENT
DTSTART;TZID=America/New_York:20250319T180000
DTEND;TZID=America/New_York:20250319T233000
DTSTAMP:20260423T174513
CREATED:20250205T034156Z
LAST-MODIFIED:20250205T034858Z
UID:6760-1742407200-1742427000@sankofahaus.com
SUMMARY:Sacred Soul
DESCRIPTION:
URL:https://sankofahaus.com/event/https-partiful-com-e-skgcqpvhkuazntiuxzyj/
LOCATION:Sankofa Haus\, 2422 3rd Ave.\, Bronx\, NY\, 10454\, United States
ATTACH;FMTTYPE=image/jpeg:https://sankofahaus.com/wp-content/uploads/2025/02/IMG_4484.webp
END:VEVENT
BEGIN:VEVENT
DTSTART;TZID=America/New_York:20250312T183000
DTEND;TZID=America/New_York:20250312T193000
DTSTAMP:20260423T174513
CREATED:20250301T154705Z
LAST-MODIFIED:20250306T100326Z
UID:6841-1741804200-1741807800@sankofahaus.com
SUMMARY:Emiflow - Sound Healing & Meditation
DESCRIPTION:
URL:https://sankofahaus.com/event/emiflow-sound-healing-meditation/
LOCATION:Sankofa Haus\, 2422 3rd Ave.\, Bronx\, NY\, 10454\, United States
ATTACH;FMTTYPE=image/png:https://sankofahaus.com/wp-content/uploads/2025/03/IMG_7677-png.webp
END:VEVENT
BEGIN:VEVENT
DTSTART;TZID=America/New_York:20250228T180000
DTEND;TZID=America/New_York:20250228T220000
DTSTAMP:20260423T174513
CREATED:20250221T150308Z
LAST-MODIFIED:20250221T150346Z
UID:6825-1740765600-1740780000@sankofahaus.com
SUMMARY:It Takes a Village - Happy Hour & Networking Mixer
DESCRIPTION:
URL:https://sankofahaus.com/event/it-takes-a-village-happy-hour-networking-mixer/
LOCATION:Sankofa Haus\, 2422 3rd Ave.\, Bronx\, NY\, 10454\, United States
ATTACH;FMTTYPE=image/jpeg:https://sankofahaus.com/wp-content/uploads/2025/02/It-Takes-a-Village-Youth-Conference-Date-Saturday-February-22nd-12pm-4pm-Location-40-Rector-Street-Event-Organizers-Bigs-United-Brand-University-Inc.-MLT-Audience-BBBS-NYC-Matches-High-Scho-2.png-copy.webp
END:VEVENT
BEGIN:VEVENT
DTSTART;TZID=America/New_York:20250227T190000
DTEND;TZID=America/New_York:20250227T220000
DTSTAMP:20260423T174513
CREATED:20250204T214332Z
LAST-MODIFIED:20250204T214424Z
UID:6748-1740682800-1740693600@sankofahaus.com
SUMMARY:Creative Mixer - Connect & Collaborate!
DESCRIPTION:
URL:https://sankofahaus.com/event/creative-mixer-connect-collaborate/
LOCATION:Sankofa Haus\, 2422 3rd Ave.\, Bronx\, NY\, 10454\, United States
ATTACH;FMTTYPE=image/heic:https://sankofahaus.com/wp-content/uploads/2025/02/mixer.heic
END:VEVENT
BEGIN:VEVENT
DTSTART;TZID=America/New_York:20250226T180000
DTEND;TZID=America/New_York:20250226T210000
DTSTAMP:20260423T174513
CREATED:20250204T214019Z
LAST-MODIFIED:20250204T214034Z
UID:6744-1740592800-1740603600@sankofahaus.com
SUMMARY:The Mens Den - A Conversation with Jason Wilson
DESCRIPTION:
URL:https://sankofahaus.com/event/the-mens-den-a-conversation-with-jason-wilson/
LOCATION:Sankofa Haus\, 2422 3rd Ave.\, Bronx\, NY\, 10454\, United States
ATTACH;FMTTYPE=image/heic:https://sankofahaus.com/wp-content/uploads/2025/02/SANKOFA-HAUS-JASON-WILSON.heic
END:VEVENT
BEGIN:VEVENT
DTSTART;TZID=America/New_York:20250225T180000
DTEND;TZID=America/New_York:20250225T210000
DTSTAMP:20260423T174513
CREATED:20250204T213605Z
LAST-MODIFIED:20250205T013656Z
UID:6741-1740506400-1740517200@sankofahaus.com
SUMMARY:Entrepreneurship in the Age of Emerging Tech
DESCRIPTION:
URL:https://sankofahaus.com/event/entrepreneurship-in-the-age-of-emerging-tech/
LOCATION:Sankofa Haus\, 2422 3rd Ave.\, Bronx\, NY\, 10454\, United States
ATTACH;FMTTYPE=image/jpeg:https://sankofahaus.com/wp-content/uploads/2025/02/Sankofa-Entreprenuears-Age-of-v2.webp
END:VEVENT
BEGIN:VEVENT
DTSTART;TZID=America/New_York:20250220T180000
DTEND;TZID=America/New_York:20250220T210000
DTSTAMP:20260423T174513
CREATED:20250204T214746Z
LAST-MODIFIED:20250205T014307Z
UID:6751-1740074400-1740085200@sankofahaus.com
SUMMARY:The Future of OUR Health & Wellness
DESCRIPTION:
URL:https://sankofahaus.com/event/the-future-of-our-health-wellness/
LOCATION:Sankofa Haus\, 2422 3rd Ave.\, Bronx\, NY\, 10454\, United States
ATTACH;FMTTYPE=image/jpeg:https://sankofahaus.com/wp-content/uploads/2025/02/Sankofa-Mind-Body-soul.webp
END:VEVENT
BEGIN:VEVENT
DTSTART;TZID=America/New_York:20250219T190000
DTEND;TZID=America/New_York:20250219T220000
DTSTAMP:20260423T174513
CREATED:20250207T182059Z
LAST-MODIFIED:20250207T182059Z
UID:6771-1739991600-1740002400@sankofahaus.com
SUMMARY:Dad’s HAUS
DESCRIPTION:
URL:https://sankofahaus.com/event/dads-haus/
LOCATION:Sankofa Haus\, 2422 3rd Ave.\, Bronx\, NY\, 10454\, United States
ATTACH;FMTTYPE=image/jpeg:https://sankofahaus.com/wp-content/uploads/2025/02/NEWl.webp
END:VEVENT
BEGIN:VEVENT
DTSTART;TZID=America/New_York:20250213T190000
DTEND;TZID=America/New_York:20250213T230000
DTSTAMP:20260423T174513
CREATED:20250121T223518Z
LAST-MODIFIED:20250121T224100Z
UID:6710-1739473200-1739487600@sankofahaus.com
SUMMARY:Ladies Love Karaoke
DESCRIPTION:
URL:https://sankofahaus.com/event/ladies-love-karaoke/
LOCATION:Sankofa Haus\, 2422 3rd Ave.\, Bronx\, NY\, 10454\, United States
ATTACH;FMTTYPE=image/jpeg:https://sankofahaus.com/wp-content/uploads/2025/01/SANKOFA-HAUS-KAROKE.webp
END:VEVENT
BEGIN:VEVENT
DTSTART;TZID=America/New_York:20250212T180000
DTEND;TZID=America/New_York:20250212T210000
DTSTAMP:20260423T174513
CREATED:20250204T213323Z
LAST-MODIFIED:20250205T014035Z
UID:6737-1739383200-1739394000@sankofahaus.com
SUMMARY:Genz Game Changers - Finances & Branding!
DESCRIPTION:
URL:https://sankofahaus.com/event/genz-game-changers/
LOCATION:Sankofa Haus\, 2422 3rd Ave.\, Bronx\, NY\, 10454\, United States
ATTACH;FMTTYPE=image/jpeg:https://sankofahaus.com/wp-content/uploads/2025/02/Sankofa-GenZ-Game-Changers-v2.webp
END:VEVENT
BEGIN:VEVENT
DTSTART;TZID=America/New_York:20250207T190000
DTEND;TZID=America/New_York:20250207T230000
DTSTAMP:20260423T174513
CREATED:20250121T222715Z
LAST-MODIFIED:20250121T224239Z
UID:6708-1738954800-1738969200@sankofahaus.com
SUMMARY:The Art Of Fashion
DESCRIPTION:
URL:https://sankofahaus.com/event/the-art-of-fashion/
ATTACH;FMTTYPE=image/jpeg:https://sankofahaus.com/wp-content/uploads/2025/01/https-cdn.evbuc_.com-images-940338963-219169022528-1-original.20250120-210800-1.webp
END:VEVENT
BEGIN:VEVENT
DTSTART;TZID=America/New_York:20241215T110000
DTEND;TZID=America/New_York:20241215T120000
DTSTAMP:20260423T174513
CREATED:20241209T154236Z
LAST-MODIFIED:20241209T154236Z
UID:6614-1734260400-1734264000@sankofahaus.com
SUMMARY:MEDITATION POP UP!
DESCRIPTION:
URL:https://sankofahaus.com/event/meditation-pop-up/
ATTACH;FMTTYPE=image/jpeg:https://sankofahaus.com/wp-content/uploads/2024/12/unnamed-1.jpg
END:VEVENT
BEGIN:VEVENT
DTSTART;TZID=America/New_York:20241212T180000
DTEND;TZID=America/New_York:20241212T180000
DTSTAMP:20260423T174513
CREATED:20241209T153951Z
LAST-MODIFIED:20241209T154020Z
UID:6611-1734026400-1734026400@sankofahaus.com
SUMMARY:WHERE DO WE GO FROM HERE - A COMMUNITY CONVERSATION
DESCRIPTION:
URL:https://sankofahaus.com/event/where-do-we-go-from-here-a-community-conversation/
ATTACH;FMTTYPE=image/jpeg:https://sankofahaus.com/wp-content/uploads/2024/12/unnamed.jpg
END:VEVENT
BEGIN:VEVENT
DTSTART;TZID=America/New_York:20241115T200000
DTEND;TZID=America/New_York:20241116T010000
DTSTAMP:20260423T174513
CREATED:20241108T232434Z
LAST-MODIFIED:20241108T232507Z
UID:6192-1731700800-1731718800@sankofahaus.com
SUMMARY:Spynfo's Boxing Birthday Celebration
DESCRIPTION:
URL:https://sankofahaus.com/event/spynfos-boxing-birthday-celebration/
LOCATION:Sankofa Haus\, 2422 3rd Ave.\, Bronx\, NY\, 10454\, United States
ATTACH;FMTTYPE=image/heic:https://sankofahaus.com/wp-content/uploads/2024/11/SPYNFO-BIRTHDAY-2024-1-.heic
END:VEVENT
BEGIN:VEVENT
DTSTART;TZID=America/New_York:20241102T090000
DTEND;TZID=America/New_York:20241102T120000
DTSTAMP:20260423T174513
CREATED:20241101T120944Z
LAST-MODIFIED:20241101T121033Z
UID:6189-1730538000-1730548800@sankofahaus.com
SUMMARY:Lululemon Breakout Run
DESCRIPTION:
URL:https://sankofahaus.com/event/lululemon-breakout-run/
LOCATION:Sankofa Haus\, 2422 3rd Ave.\, Bronx\, NY\, 10454\, United States
ATTACH;FMTTYPE=image/jpeg:https://sankofahaus.com/wp-content/uploads/2024/11/image-1730462698-1.jpeg
END:VEVENT
BEGIN:VEVENT
DTSTART;TZID=America/New_York:20241031T150000
DTEND;TZID=America/New_York:20241031T180000
DTSTAMP:20260423T174513
CREATED:20240919T161511Z
LAST-MODIFIED:20240919T161511Z
UID:6176-1730386800-1730397600@sankofahaus.com
SUMMARY:Costume Carnival 2024
DESCRIPTION:
URL:https://sankofahaus.com/event/costume-carnival-2024/
LOCATION:Sankofa Haus\, 2422 3rd Ave.\, Bronx\, NY\, 10454\, United States
ATTACH;FMTTYPE=image/jpeg:https://sankofahaus.com/wp-content/uploads/2024/09/Sankofa-Costume-Party-2024-alternate-4.jpg
END:VEVENT
BEGIN:VEVENT
DTSTART;TZID=America/New_York:20241004T190000
DTEND;TZID=America/New_York:20241004T220000
DTSTAMP:20260423T174513
CREATED:20240919T162033Z
LAST-MODIFIED:20240919T162033Z
UID:6181-1728068400-1728079200@sankofahaus.com
SUMMARY:Dogs of Mott Haven
DESCRIPTION:
URL:https://sankofahaus.com/event/dogs-of-mott-haven/
LOCATION:Sankofa Haus\, 2422 3rd Ave.\, Bronx\, NY\, 10454\, United States
ATTACH;FMTTYPE=image/jpeg:https://sankofahaus.com/wp-content/uploads/2024/09/SEPTMOVIESCREENING.jpeg
END:VEVENT
BEGIN:VEVENT
DTSTART;TZID=America/New_York:20241001T180000
DTEND;TZID=America/New_York:20241001T210000
DTSTAMP:20260423T174513
CREATED:20240920T223249Z
LAST-MODIFIED:20240920T223354Z
UID:6185-1727805600-1727816400@sankofahaus.com
SUMMARY:Pathways to Prosperity!
DESCRIPTION:
URL:https://sankofahaus.com/event/pathways-to-prosperity/
LOCATION:Sankofa Haus\, 2422 3rd Ave.\, Bronx\, NY\, 10454\, United States
ATTACH;FMTTYPE=image/png:https://sankofahaus.com/wp-content/uploads/2024/09/IMG_2902.png
END:VEVENT
BEGIN:VEVENT
DTSTART;TZID=America/New_York:20240630T140000
DTEND;TZID=America/New_York:20240630T190000
DTSTAMP:20260423T174513
CREATED:20240530T020351Z
LAST-MODIFIED:20240530T020351Z
UID:5522-1719756000-1719774000@sankofahaus.com
SUMMARY:The Self Care Mixer
DESCRIPTION:
URL:https://sankofahaus.com/event/the-self-care-mixer/
LOCATION:Sankofa Haus\, 2422 3rd Ave.\, Bronx\, NY\, 10454\, United States
ATTACH;FMTTYPE=image/jpeg:https://sankofahaus.com/wp-content/uploads/2024/05/SELF-CARE-MIXER.jpg
END:VEVENT
BEGIN:VEVENT
DTSTART;TZID=America/New_York:20240620T180000
DTEND;TZID=America/New_York:20240620T220000
DTSTAMP:20260423T174513
CREATED:20240529T192908Z
LAST-MODIFIED:20240529T193146Z
UID:5516-1718906400-1718920800@sankofahaus.com
SUMMARY:Co-Exist Ceremonies - Summer Solstice
DESCRIPTION:
URL:https://sankofahaus.com/event/co-exist-ceremonies-summer-solstice/
ATTACH;FMTTYPE=image/jpeg:https://sankofahaus.com/wp-content/uploads/2024/05/image-1.jpeg
END:VEVENT
BEGIN:VEVENT
DTSTART;TZID=America/New_York:20240608T120000
DTEND;TZID=America/New_York:20240608T140000
DTSTAMP:20260423T174513
CREATED:20240529T192450Z
LAST-MODIFIED:20240529T192629Z
UID:5513-1717848000-1717855200@sankofahaus.com
SUMMARY:The Couples Yoga Date Experience
DESCRIPTION:
URL:https://sankofahaus.com/event/the-couples-yoga-date-experience/
LOCATION:Sankofa Haus\, 2422 3rd Ave.\, Bronx\, NY\, 10454\, United States
ATTACH;FMTTYPE=image/jpeg:https://sankofahaus.com/wp-content/uploads/2024/05/image.jpeg
END:VEVENT
BEGIN:VEVENT
DTSTART;TZID=America/New_York:20240604T180000
DTEND;TZID=America/New_York:20240604T210000
DTSTAMP:20260423T174513
CREATED:20240529T214103Z
LAST-MODIFIED:20240529T214103Z
UID:5520-1717524000-1717534800@sankofahaus.com
SUMMARY:Bronx Tech Hub
DESCRIPTION:
URL:https://sankofahaus.com/event/bronx-tech-hub/
LOCATION:Sankofa Haus\, 2422 3rd Ave.\, Bronx\, NY\, 10454\, United States
END:VEVENT
BEGIN:VEVENT
DTSTART;TZID=America/New_York:20240525T200000
DTEND;TZID=America/New_York:20240526T010000
DTSTAMP:20260423T174513
CREATED:20240510T002209Z
LAST-MODIFIED:20240510T002221Z
UID:5274-1716667200-1716685200@sankofahaus.com
SUMMARY:House is a Feeling featuring Tony Touch!
DESCRIPTION:
URL:https://sankofahaus.com/event/house-is-a-feeling-featuring-tony-touch/
LOCATION:Sankofa Haus\, 2422 3rd Ave.\, Bronx\, NY\, 10454\, United States
ATTACH;FMTTYPE=image/jpeg:https://sankofahaus.com/wp-content/uploads/2024/05/TONY-TOUCH-SANKOFA-HAUS.jpg
END:VEVENT
BEGIN:VEVENT
DTSTART;TZID=America/New_York:20240516T180000
DTEND;TZID=America/New_York:20240516T210000
DTSTAMP:20260423T174513
CREATED:20240501T174210Z
LAST-MODIFIED:20240501T174210Z
UID:5256-1715882400-1715893200@sankofahaus.com
SUMMARY:The Sankofa Haus Expo
DESCRIPTION:
URL:https://sankofahaus.com/event/the-sankofa-haus-expo/
LOCATION:Sankofa Haus\, 2422 3rd Ave.\, Bronx\, NY\, 10454\, United States
ATTACH;FMTTYPE=image/jpeg:https://sankofahaus.com/wp-content/uploads/2024/05/SANKOFA-HAUS.jpg
END:VEVENT
BEGIN:VEVENT
DTSTART;TZID=America/New_York:20240319T190000
DTEND;TZID=America/New_York:20240319T230000
DTSTAMP:20260423T174513
CREATED:20240305T140053Z
LAST-MODIFIED:20240305T141257Z
UID:5057-1710874800-1710889200@sankofahaus.com
SUMMARY:Sounds of Spring
DESCRIPTION:
URL:https://sankofahaus.com/event/sounds-of-spring/
LOCATION:Sankofa Haus\, 2422 3rd Ave.\, Bronx\, NY\, 10454\, United States
ATTACH;FMTTYPE=image/jpeg:https://sankofahaus.com/wp-content/uploads/2024/03/5F43D1DF-08D4-49E5-A54A-425C6F3DD8AC.jpeg
END:VEVENT
END:VCALENDAR