BEGIN:VCALENDAR
VERSION:2.0
PRODID:-//Sankofa Haus - ECPv6.15.20//NONSGML v1.0//EN
CALSCALE:GREGORIAN
METHOD:PUBLISH
X-ORIGINAL-URL:https://sankofahaus.com
X-WR-CALDESC:Events for Sankofa Haus
REFRESH-INTERVAL;VALUE=DURATION:PT1H
X-Robots-Tag:noindex
X-PUBLISHED-TTL:PT1H
BEGIN:VTIMEZONE
TZID:America/New_York
BEGIN:DAYLIGHT
TZOFFSETFROM:-0500
TZOFFSETTO:-0400
TZNAME:EDT
DTSTART:20240310T070000
END:DAYLIGHT
BEGIN:STANDARD
TZOFFSETFROM:-0400
TZOFFSETTO:-0500
TZNAME:EST
DTSTART:20241103T060000
END:STANDARD
BEGIN:DAYLIGHT
TZOFFSETFROM:-0500
TZOFFSETTO:-0400
TZNAME:EDT
DTSTART:20250309T070000
END:DAYLIGHT
BEGIN:STANDARD
TZOFFSETFROM:-0400
TZOFFSETTO:-0500
TZNAME:EST
DTSTART:20251102T060000
END:STANDARD
BEGIN:DAYLIGHT
TZOFFSETFROM:-0500
TZOFFSETTO:-0400
TZNAME:EDT
DTSTART:20260308T070000
END:DAYLIGHT
BEGIN:STANDARD
TZOFFSETFROM:-0400
TZOFFSETTO:-0500
TZNAME:EST
DTSTART:20261101T060000
END:STANDARD
BEGIN:DAYLIGHT
TZOFFSETFROM:-0500
TZOFFSETTO:-0400
TZNAME:EDT
DTSTART:20270314T070000
END:DAYLIGHT
BEGIN:STANDARD
TZOFFSETFROM:-0400
TZOFFSETTO:-0500
TZNAME:EST
DTSTART:20271107T060000
END:STANDARD
END:VTIMEZONE
BEGIN:VEVENT
DTSTART;TZID=America/New_York:20251210T190000
DTEND;TZID=America/New_York:20251210T220000
DTSTAMP:20260423T191455
CREATED:20251128T170343Z
LAST-MODIFIED:20251128T170438Z
UID:8850-1765393200-1765404000@sankofahaus.com
SUMMARY:Album Release Concert: MANNAfesto: Vol. 1
DESCRIPTION:
URL:https://sankofahaus.com/event/album-release-concert-mannafesto-vol-1/
LOCATION:Sankofa Haus\, 2422 3rd Ave.\, Bronx\, NY\, 10454\, United States
CATEGORIES:In Haus Events
ATTACH;FMTTYPE=image/jpeg:https://sankofahaus.com/wp-content/uploads/2025/11/MANNIFESTO.avif
END:VEVENT
BEGIN:VEVENT
DTSTART;TZID=America/New_York:20251216T180000
DTEND;TZID=America/New_York:20251216T210000
DTSTAMP:20260423T191455
CREATED:20251118T144609Z
LAST-MODIFIED:20251118T145124Z
UID:8716-1765908000-1765918800@sankofahaus.com
SUMMARY:Beyond the Bronx Book Launch
DESCRIPTION:
URL:https://sankofahaus.com/event/beyond-the-bronx-book-launch/
LOCATION:Sankofa Haus\, 2422 3rd Ave.\, Bronx\, NY\, 10454\, United States
CATEGORIES:In Haus Events
ATTACH;FMTTYPE=image/jpeg:https://sankofahaus.com/wp-content/uploads/2025/11/Beyond-the-Bronx-Book-Launch-Sankofa-Haus.avif
END:VEVENT
BEGIN:VEVENT
DTSTART;TZID=America/New_York:20251217T190000
DTEND;TZID=America/New_York:20251217T220000
DTSTAMP:20260423T191455
CREATED:20251201T154316Z
LAST-MODIFIED:20251201T155053Z
UID:8853-1765998000-1766008800@sankofahaus.com
SUMMARY:Soulful Sounds in the Bronx
DESCRIPTION:
URL:https://sankofahaus.com/event/soulful-sounds-in-the-bronx-2/
LOCATION:Sankofa Haus\, 2422 3rd Ave.\, Bronx\, NY\, 10454\, United States
CATEGORIES:In Haus Events
ATTACH;FMTTYPE=image/jpeg:https://sankofahaus.com/wp-content/uploads/2025/12/Soul-Sounds-in-the-Bronx-Sankofa-Haus.avif
END:VEVENT
BEGIN:VEVENT
DTSTART;TZID=America/New_York:20251220T113000
DTEND;TZID=America/New_York:20251220T133000
DTSTAMP:20260423T191455
CREATED:20251219T200227Z
LAST-MODIFIED:20251219T200227Z
UID:9067-1766230200-1766237400@sankofahaus.com
SUMMARY:Yoga & Lattes
DESCRIPTION:
URL:https://sankofahaus.com/event/yoga-lattes/
LOCATION:Sankofa Haus\, 2422 3rd Ave.\, Bronx\, NY\, 10454\, United States
END:VEVENT
BEGIN:VEVENT
DTSTART;TZID=America/New_York:20260118T160000
DTEND;TZID=America/New_York:20260118T203000
DTSTAMP:20260423T191455
CREATED:20260109T163441Z
LAST-MODIFIED:20260109T163547Z
UID:9103-1768752000-1768768200@sankofahaus.com
SUMMARY:Bronx World Film Screening
DESCRIPTION:
URL:https://sankofahaus.com/event/bronx-world-film-screening/
LOCATION:Sankofa Haus\, 2422 3rd Ave.\, Bronx\, NY\, 10454\, United States
ATTACH;FMTTYPE=image/jpeg:https://sankofahaus.com/wp-content/uploads/2026/01/1767215217789-Poster-Bronx-World-Film-Cycle-Winter-2026.avif
END:VEVENT
BEGIN:VEVENT
DTSTART;TZID=America/New_York:20260124T130000
DTEND;TZID=America/New_York:20260124T170000
DTSTAMP:20260423T191455
CREATED:20260120T181628Z
LAST-MODIFIED:20260120T181628Z
UID:9113-1769259600-1769274000@sankofahaus.com
SUMMARY:Release and Relearn
DESCRIPTION:
URL:https://sankofahaus.com/event/release-and-relearn/
LOCATION:Sankofa Haus\, 2422 3rd Ave.\, Bronx\, NY\, 10454\, United States
ATTACH;FMTTYPE=image/png:https://sankofahaus.com/wp-content/uploads/2026/01/Sankofa-Haus-Release-Relearn.avif
END:VEVENT
BEGIN:VEVENT
DTSTART;TZID=America/New_York:20260208T183000
DTEND;TZID=America/New_York:20260208T233000
DTSTAMP:20260423T191455
CREATED:20260106T184906Z
LAST-MODIFIED:20260106T184917Z
UID:9099-1770575400-1770593400@sankofahaus.com
SUMMARY:Bad Bunny Viewing - Super Bowl Sunday!
DESCRIPTION:
URL:https://sankofahaus.com/event/bad-bunny-viewing-super-bowl-sunday/
LOCATION:Sankofa Haus\, 2422 3rd Ave.\, Bronx\, NY\, 10454\, United States
ATTACH;FMTTYPE=image/jpeg:https://sankofahaus.com/wp-content/uploads/2026/01/https-cdn.evbuc_.com-images-1173695990-575911911864-1-original.20251230-054442.avif
END:VEVENT
BEGIN:VEVENT
DTSTART;TZID=America/New_York:20260216T140000
DTEND;TZID=America/New_York:20260216T200000
DTSTAMP:20260423T191455
CREATED:20260116T193821Z
LAST-MODIFIED:20260116T205937Z
UID:9108-1771250400-1771272000@sankofahaus.com
SUMMARY:Garifuna Social Club
DESCRIPTION:
URL:https://sankofahaus.com/event/garifuna-social-club/
LOCATION:Sankofa Haus\, 2422 3rd Ave.\, Bronx\, NY\, 10454\, United States
ATTACH;FMTTYPE=image/jpeg:https://sankofahaus.com/wp-content/uploads/2026/01/Image.avif
END:VEVENT
BEGIN:VEVENT
DTSTART;TZID=America/New_York:20260224T190000
DTEND;TZID=America/New_York:20260224T223000
DTSTAMP:20260423T191455
CREATED:20260202T164221Z
LAST-MODIFIED:20260202T171328Z
UID:9132-1771959600-1771972200@sankofahaus.com
SUMMARY:Jazz at Sankofa Haus
DESCRIPTION:
URL:https://sankofahaus.com/event/jazz-at-sankofa-haus/
LOCATION:Sankofa Haus\, 2422 3rd Ave.\, Bronx\, NY\, 10454\, United States
CATEGORIES:In Haus Events
ATTACH;FMTTYPE=image/jpeg:https://sankofahaus.com/wp-content/uploads/2026/02/Jazz-feat-AV-the-Force.avif
END:VEVENT
BEGIN:VEVENT
DTSTART;TZID=America/New_York:20260225T183000
DTEND;TZID=America/New_York:20260225T213000
DTSTAMP:20260423T191455
CREATED:20260217T190434Z
LAST-MODIFIED:20260217T190630Z
UID:9156-1772044200-1772055000@sankofahaus.com
SUMMARY:Dad's Haus - NY Fatherhood Circle
DESCRIPTION:
URL:https://sankofahaus.com/event/dads-haus-ny-fatherhood-circle/
LOCATION:Sankofa Haus\, 2422 3rd Ave.\, Bronx\, NY\, 10454\, United States
ATTACH;FMTTYPE=image/avif:https://sankofahaus.com/wp-content/uploads/2026/02/Sad-Haus-Sankofa-Haus.webp.avif
END:VEVENT
BEGIN:VEVENT
DTSTART;TZID=America/New_York:20260226T190000
DTEND;TZID=America/New_York:20260226T220000
DTSTAMP:20260423T191455
CREATED:20260202T170811Z
LAST-MODIFIED:20260202T172850Z
UID:9135-1772132400-1772143200@sankofahaus.com
SUMMARY:Comedy Show
DESCRIPTION:
URL:https://sankofahaus.com/event/comedy-show/
LOCATION:Sankofa Haus\, 2422 3rd Ave.\, Bronx\, NY\, 10454\, United States
CATEGORIES:In Haus Events
ATTACH;FMTTYPE=image/jpeg:https://sankofahaus.com/wp-content/uploads/2026/02/WhatsApp-Image-2026-02-03-at-1.23.59-AM.avif
END:VEVENT
BEGIN:VEVENT
DTSTART;TZID=America/New_York:20260414T190000
DTEND;TZID=America/New_York:20260414T213000
DTSTAMP:20260423T191455
CREATED:20260401T150650Z
LAST-MODIFIED:20260401T150825Z
UID:9372-1776193200-1776202200@sankofahaus.com
SUMMARY:Third Ave Jazz
DESCRIPTION:
URL:https://sankofahaus.com/event/third-ave-jazz-featuring-adriel-vincent-brown/
LOCATION:NY
CATEGORIES:In Haus Events
ATTACH;FMTTYPE=image/jpeg:https://sankofahaus.com/wp-content/uploads/2026/04/Jazz.avif
END:VEVENT
BEGIN:VEVENT
DTSTART;TZID=America/New_York:20260414T190000
DTEND;TZID=America/New_York:20260414T213000
DTSTAMP:20260423T191455
CREATED:20260414T222419Z
LAST-MODIFIED:20260331T222815Z
UID:9364-1776193200-1776202200@sankofahaus.com
SUMMARY:Third Ave Jazz
DESCRIPTION:
URL:https://sankofahaus.com/event/third-ave-jazz/
LOCATION:Sankofa Haus\, 2422 3rd Ave.\, Bronx\, NY\, 10454\, United States
ATTACH;FMTTYPE=image/jpeg:https://sankofahaus.com/wp-content/uploads/2026/03/Sankofa-HausAV-The-Force-JAzz.avif
END:VEVENT
BEGIN:VEVENT
DTSTART;TZID=America/New_York:20260416T180000
DTEND;TZID=America/New_York:20260416T210000
DTSTAMP:20260423T191455
CREATED:20260403T141126Z
LAST-MODIFIED:20260403T141126Z
UID:9376-1776362400-1776373200@sankofahaus.com
SUMMARY:The Garifuna Social
DESCRIPTION:
URL:https://sankofahaus.com/event/the-garifuna-social/
LOCATION:Sankofa Haus\, 2422 3rd Ave.\, Bronx\, NY\, 10454\, United States
ATTACH;FMTTYPE=image/jpeg:https://sankofahaus.com/wp-content/uploads/2026/04/the-Garifuna-Social.avif
END:VEVENT
BEGIN:VEVENT
DTSTART;TZID=America/New_York:20260423T180000
DTEND;TZID=America/New_York:20260423T220000
DTSTAMP:20260423T191455
CREATED:20260403T142029Z
LAST-MODIFIED:20260403T142040Z
UID:9379-1776967200-1776981600@sankofahaus.com
SUMMARY:Built for Greatness: The Honor Gathering.
DESCRIPTION:
URL:https://sankofahaus.com/event/built-for-greatness-the-honor-gathering/
LOCATION:NY
ATTACH;FMTTYPE=image/jpeg:https://sankofahaus.com/wp-content/uploads/2026/04/brothers-and-brief-cases-sankofa-haus.avif
END:VEVENT
BEGIN:VEVENT
DTSTART;TZID=America/New_York:20260429T173000
DTEND;TZID=America/New_York:20260429T220000
DTSTAMP:20260423T191455
CREATED:20260401T145210Z
LAST-MODIFIED:20260401T145317Z
UID:9367-1777483800-1777500000@sankofahaus.com
SUMMARY:A Very Black Happy Hour
DESCRIPTION:
URL:https://sankofahaus.com/event/a-very-black-happy-hour/
LOCATION:NY
CATEGORIES:In Haus Events
ATTACH;FMTTYPE=image/png:https://sankofahaus.com/wp-content/uploads/2026/04/A-Very-Black-Happy-Hour.avif
END:VEVENT
END:VCALENDAR