BEGIN:VCALENDAR
VERSION:2.0
PRODID:-//Sankofa Haus - ECPv6.15.20//NONSGML v1.0//EN
CALSCALE:GREGORIAN
METHOD:PUBLISH
X-ORIGINAL-URL:https://sankofahaus.com
X-WR-CALDESC:Events for Sankofa Haus
REFRESH-INTERVAL;VALUE=DURATION:PT1H
X-Robots-Tag:noindex
X-PUBLISHED-TTL:PT1H
BEGIN:VTIMEZONE
TZID:America/New_York
BEGIN:DAYLIGHT
TZOFFSETFROM:-0500
TZOFFSETTO:-0400
TZNAME:EDT
DTSTART:20240310T070000
END:DAYLIGHT
BEGIN:STANDARD
TZOFFSETFROM:-0400
TZOFFSETTO:-0500
TZNAME:EST
DTSTART:20241103T060000
END:STANDARD
BEGIN:DAYLIGHT
TZOFFSETFROM:-0500
TZOFFSETTO:-0400
TZNAME:EDT
DTSTART:20250309T070000
END:DAYLIGHT
BEGIN:STANDARD
TZOFFSETFROM:-0400
TZOFFSETTO:-0500
TZNAME:EST
DTSTART:20251102T060000
END:STANDARD
BEGIN:DAYLIGHT
TZOFFSETFROM:-0500
TZOFFSETTO:-0400
TZNAME:EDT
DTSTART:20260308T070000
END:DAYLIGHT
BEGIN:STANDARD
TZOFFSETFROM:-0400
TZOFFSETTO:-0500
TZNAME:EST
DTSTART:20261101T060000
END:STANDARD
END:VTIMEZONE
BEGIN:VEVENT
DTSTART;TZID=America/New_York:20251025T130000
DTEND;TZID=America/New_York:20251025T153000
DTSTAMP:20260423T191742
CREATED:20251013T163736Z
LAST-MODIFIED:20251013T163736Z
UID:8125-1761397200-1761406200@sankofahaus.com
SUMMARY:GarifunaRobics!
DESCRIPTION:
URL:https://sankofahaus.com/event/garifunarobics/
LOCATION:Sankofa Haus\, 2422 3rd Ave.\, Bronx\, NY\, 10454\, United States
CATEGORIES:In Haus Events
ATTACH;FMTTYPE=image/jpeg:https://sankofahaus.com/wp-content/uploads/2025/10/IMG_4203.avif
END:VEVENT
END:VCALENDAR